Workbook

Sheet 【表单1】【附件2】长工
B1: 2024年人社局培训学时认定登记表（长沙工业学院）
B2: 单位:长沙工业学院
A3: 序号 | B3: 姓名 | C3: 部门 | D3: 培训类型 | E3: 公共课学时数 | F3: 培训方式 | G3: 专业课学时数 | H3: 培训方式 | I3: 培训结果 | J3: 备注
A4: 1 | B4: 刘孟祥 | C4: 长沙工业学院党政办公室 | D4: 在岗培训 | E4: 30 | F4: 线上培训 | G4: 60 | H4: 线上培训 | I4: 合格
A5: 2 | B5: 石晓兰 | C5: 长沙工业学院党政办公室 | D5: 在岗培训 | E5: 30 | F5: 线上培训 | G5: 60 | H5: 学时认定 | I5: 合格 | J5: 2024年湖 南省高校教师线上岗前培训班
A6: 3 | B6: 潘帅 | C6: 长沙工业学院党政办公室 | D6: 在岗培训 | E6: 30 | F6: 线上培训 | G6: 60 | H6: 学时认定 | I6: 合格 | J6: 2024年湖 南省高校教师线上岗前培训班
A7: 4 | B7: 童雄风 | C7: 长沙工业学院党政办公室 | D7: 在岗培训 | E7: 30 | F7: 线上培训 | G7: 60 | H7: 学时认定 | I7: 合格 | J7: 2024年湖 南省高校教师线上岗前培训班
A8: 5 | B8: 舒亮 | C8: 组织部 | D8: 在岗培训 | E8: 56 | F8: 线下培训 | G8: 60 | H8: 线上培训 | I8: 合格 | J8: 1.线下培训举办单位：国家教育行政学院 2.线下培训56课时见结业证书
A9: 6 | B9: 刘婷 | C9: 组织部 | D9: 在岗培训 | E9: 56 | F9: 线下培训 | G9: 60 | H9: 线上培训 | I9: 合格 | J9: 1.线下培训举办单位：国家教育行政学院 2.线下培训56课时见结业证书
A10: 7 | B10: 邹思铭 | C10: 组织部 | D10: 在岗培训 | E10: 56 | F10: 线下培训 | G10: 60 | H10: 线上培训 | I10: 合格 | J10: 1.线下培训举办单位：国家教育行政学院 2.线下培训56课时见结业证书
A11: 8 | B11: 崔姝妍 | C11: 组织部 | D11: 岗前培训+在岗培训 | E11: 30 | F11: 线上培训 | G11: 128 | H11: 线上培训 | I11: 合格 | J11: 线上培训128课时见学时证明
A12: 9 | B12: 何志宏 | C12: 宣传统战部 | D12: 在岗培训 | E12: 30 | F12: 线上培训 | G12: 60 | H12: 线上培训 | I12: 合格
A13: 10 | B13: 黄畅 | C13: 宣传统战部 | D13: 在岗培训 | E13: 30 | F13: 线上培训 | G13: 60 | H13: 线上培训 | I13: 合格
A14: 11 | B14: 邢冬妮 | C14: 宣传统战部 | D14: 在岗培训 | E14: 30 | F14: 线上培训 | G14: 60 | H14: 线上培训 | I14: 合格
A15: 12 | B15: 彭蝶芬 | C15: 宣传统战部 | D15: 在岗培训 | E15: 30 | F15: 线上培训 | G15: 60 | H15: 线上培训 | I15: 合格
A16: 13 | B16: 张梦闪 | C16: 宣传统战部 | D16: 在岗培训 | E16: 30 | F16: 线上培训 | G16: 60 | H16: 线上培训 | I16: 合格
A17: 14 | B17: 方璠 | C17: 宣传统战部 | D17: 在岗培训 | E17: 30 | F17: 线上培训 | G17: 60 | H17: 线上培训 | I17: 合格
A18: 15 | B18: 陈傲 | C18: 宣传统战部 | D18: 在岗培训 | E18: 30 | F18: 线上培训 | G18: 60 | H18: 线上培训 | I18: 合格
A19: 16 | B19: 谭鹏程 | C19: 纪检监察室 | D19: 在岗培训 | E19: 30 | F19: 线上培训 | G19: 60 | H19: 线上培训 | I19: 合格
A20: 17 | B20: 凌芬 | C20: 纪检监察室 | D20: 在岗培训 | E20: 30 | F20: 线上培训 | G20: 60 | H20: 线上培训 | I20: 合格
A21: 18 | B21: 李梅芳 | C21: 纪检监察室 | D21: 在岗培训 | E21: 30 | F21: 线上培训 | G21: 60 | H21: 线上培训 | I21: 合格
A22: 19 | B22: 黄慧敏 | C22: 学生工作处 | D22: 在岗培训 | E22: 30 | F22: 线上培训 | G22: 60 | H22: 线上培训44 学时认定16 | I22: 合格 | J22: 学习平台培训44+2024年寒假教师研修培训6+2024年暑假教师研修培训10
A23: 20 | B23: 罗炜 | C23: 学生工作处 | D23: 在岗培训 | E23: 30 | F23: 线上培训 | G23: 60 | H23: 线上培训 | I23: 合格
A24: 21 | B24: 周薇 | C24: 学生工作处 | D24: 在岗培训 | E24: 30 | F24: 线上培训 | G24: 60 | H24: 线上培训 | I24: 合格 | J24: 2024年湖南省高校教师线上岗前培训班60
A25: 22 | B25: 叶胜男 | C25: 院工会 | D25: 在岗培训 | E25: 30 | F25: 线上培训 | G25: 60 | H25: 学时认定 | I25: 合格 | J25: 高校教师岗前培训60专业课时
A26: 23 | B26: 李天任 | C26: 院工会 | D26: 在岗培训 | E26: 30 | F26: 线上培训 | G26: 60 | H26: 学时认定 | I26: 合格 | J26: 高校教师岗前培训60专业课时
A27: 24 | B27: 李梦瑶 | C27: 院团委 | D27: 在岗培训 | E27: 30 | F27: 线上培训 | G27: 60 | H27: 线上培训 | I27: 合格
A28: 25 | B28: 肖卓 | C28: 院团委 | D28: 在岗培训 | E28: 38 | F28: 线上培训 | G28: 62 | H28: 线上培训 | I28: 合格
A29: 26 | B29: 杨娟 | C29: 院团委 | D29: 在岗培训 | E29: 30 | F29: 线上培训 | G29: 60 | H29: 学时认定 | I29: 合格 | J29: 高校教师岗前培训
A30: 27 | B30: 唐超 | C30: 人事处 | D30: 在岗培训 | E30: 30 | F30: 线上培训 | G30: 60 | H30: 线上培训 | I30: 合格
A31: 28 | B31: 李颖娟 | C31: 人事处 | D31: 在岗培训 | E31: 30 | F31: 线上培训 | G31: 60 | H31: 线上培训 | I31: 合格
A32: 29 | B32: 胡建宇 | C32: 人事处 | D32: 在岗培训 | E32: 30 | F32: 线上培训 | G32: 60 | H32: 学时认定 | I32: 合格 | J32: 湖南省高校教师岗前培训
A33: 30 | B33: 高乐 | C33: 人事处 | D33: 在岗培训 | E33: 30 | F33: 线上培训 | G33: 60 | H33: 学时认定 | I33: 合格 | J33: 湖南省高校教师岗前培训
A34: 31 | B34: 王雨思 | C34: 人事处 | D34: 在岗培训 | E34: 30 | F34: 线上培训 | G34: 60 | H34: 学时认定 | I34: 合格 | J34: 湖南省高校教师岗前培训
A35: 32 | B35: 伍兴 | C35: 人事处 | D35: 在岗培训 | E35: 30 | F35: 线上培训 | G35: 60 | H35: 学时认定 | I35: 合格 | J35: 湖南省高校教师岗前培训
A36: 33 | B36: 吴苗 | C36: 财务处 | D36: 在岗培训 | E36: 30 | F36: 线上培训 | G36: 60 | H36: 学时认定 | I36: 合格 | J36: 湖南省高校教师线上岗前培训认定60学时
A37: 34 | B37: 任潇 | C37: 财务处 | D37: 在岗培训 | E37: 30 | F37: 线上培训 | G37: 60 | H37: 学时认定 | I37: 合格 | J37: 湖南省高校教师线上岗前培训认定60学时
A38: 35 | B38: 黄博文 | C38: 资产管理处 | D38: 在岗培训 | E38: 30 | F38: 线上培训 | G38: 60 | H38: 线上培训 | I38: 合格
A39: 36 | B39: 唐黄正 | C39: 资产管理处 | D39: 在岗培训 | E39: 30 | F39: 线上培训 | G39: 60 | H39: 线上培训 | I39: 合格
A40: 37 | B40: 卢佳佳 | C40: 审计处 | D40: 在岗培训 | E40: 30 | F40: 线上培训 | G40: 60 | H40: 线上培训 | I40: 合格
A41: 38 | B41: 周思佳 | C41: 审计处 | D41: 在岗培训 | E41: 30 | F41: 线上培训 | G41: 60 | H41: 学时认定 | I41: 合格 | J41: 参加湖南省高校教师线上岗前培训班完成128个课时
A42: 39 | B42: 廖洁 | C42: 审计处 | D42: 在岗培训 | E42: 30 | F42: 线上培训 | G42: 60 | H42: 学时认定 | I42: 合格 | J42: 参加湖南省高校教师线上岗前培训班完成128个课时
A43: 40 | B43: 陈奕辰 | C43: 教务处 | D43: 在岗培训 | E43: 30 | F43: 线上培训 | G43: 60 | H43: 线上培训 | I43: 合格
A44: 41 | B44: 潘婧雅 | C44: 教务处 | D44: 在岗培训 | E44: 30 | F44: 线上培训 | G44: 60 | H44: 学时认定 | I44: 合格 | J44: 湖南省高校教师线上岗前培训60
A45: 42 | B45: 乔小双 | C45: 教务处 | D45: 在岗培训 | E45: 30 | F45: 线上培训 | G45: 60 | H45: 线上培训 | I45: 合格
A46: 43 | B46: 郭靓 | C46: 高教研究所 | D46: 在岗培训 | E46: 30 | F46: 线上培训 | G46: 60 | H46: 学时认定 | I46: 合格 | J46: 2024年湖南省高校教师线上岗前培训班
A47: 44 | B47: 张楷承 | C47: 高教研究所 | D47: 在岗培训 | E47: 30 | F47: 线上培训 | G47: 60 | H47: 学时认定 | I47: 合格 | J47: 2024年湖南省高校教师线上岗前培训班
A48: 45 | B48: 曾念文 | C48: 质量管理处 | D48: 在岗培训 | E48: 30 | F48: 线上培训 | G48: 60 | H48: 线上培训 | I48: 合格
A49: 46 | B49: 唐婷 | C49: 质量管理处 | D49: 在岗培训 | E49: 30 | F49: 线上培训 | G49: 60 | H49: 线上培训 | I49: 合格
A50: 47 | B50: 吴杰 | C50: 科技处 | D50: 在岗培训 | E50: 30 | F50: 线上培训 | G50: 60 | H50: 学时认定 | I50: 合格 | J50: 线上培训公共科目（30）+省级期刊论文（30）+省级期刊论文（30）
A51: 48 | B51: 廖映雁 | C51: 科技处 | D51: 在岗培训 | E51: 30 | F51: 线上培训 | G51: 60 | H51: 线上培训34 学时认定26 | I51: 合格 | J51: 线上培训公共科目（30）+线上培训专业科目（34）+省级期刊论文（10）+2024年暑假教师研修（10）+2024年寒假教师研修（6）
A52: 49 | B52: 彭洁 | C52: 科技处 | D52: 在岗培训 | E52: 30 | F52: 线上培训 | G52: 60 | H52: 学时认定 | I52: 合格 | J52: 线上培训公共科目（30）+2024年暑假教师研修（10）+“数智聚合思政育人”高级研修班（40）+2024年暑期全国高校外语教学研究与教师发展系列研修班（12）
A53: 50 | B53: 彭宏杰 | C53: 科技处 | D53: 在岗培训 | E53: 30 | F53: 线上培训 | G53: 60 | H53: 学时认定 | I53: 合格 | J53: 线上培训公共科目（30）+高校教师岗前培训（128）
A54: 51 | B54: 冯文韬 | C54: 就业招生处 | D54: 在岗培训 | E54: 30 | F54: 线上培训 | G54: 60 | H54: 线上培训 | I54: 合格
A55: 52 | B55: 向彦如 | C55: 就业招生处 | D55: 在岗培训 | E55: 32 | F55: 线上培训 | G55: 61 | H55: 线上培训 | I55: 合格
A56: 53 | B56: 段佳丽 | C56: 就业招生处 | D56: 在岗培训 | E56: 30 | F56: 线上培训 | G56: 64 | H56: 学时认定 | I56: 合格 | J56: 湖南省高校就业指导工作人员培训班16课时；湖南省高校职业规划与就业指导师资培训班16课时；全国高校就业指导人员培训32课时
A57: 54 | B57: 李锡辉 | C57: 就业招生处 | D57: 在岗培训 | E57: 34 | F57: 线上培训 | G57: 60 | H57: 线上培训 | I57: 合格
A58: 55 | B58: 刘墨迪 | C58: 就业招生处 | D58: 在岗培训 | E58: 30 | F58: 线上培训 | G58: 60 | H58: 线上培训 | I58: 合格
A59: 56 | B59: 张晓丽 | C59: 就业招生处 | D59: 在岗培训 | E59: 30 | F59: 线上培训 | G59: 65 | H59: 线上培训 | I59: 合格
A60: 57 | B60: 肖腾 | C60: 后勤处 | D60: 在岗培训 | E60: 30 | F60: 线上培训 | G60: 60 | H60: 线上培训 | I60: 合格
A61: 58 | B61: 袁叙普 | C61: 后勤处 | D61: 在岗培训 | E61: 30 | F61: 线上培训 | G61: 60 | H61: 线上培训 | I61: 合格
A62: 59 | B62: 文佩 | C62: 长沙工业学院后勤保卫处（发展规划处） | D62: 在岗培训 | E62: 30 | F62: 线上培训 | G62: 60 | H62: 学时认定 | I62: 合格 | J62: 高校岗前培训128学时
A63: 60 | B63: 魏国强 | C63: 长沙工业学院后勤保卫处（发展规划处） | D63: 在岗培训 | E63: 30 | F63: 线上培训 | G63: 60 | H63: 学时认定 | I63: 合格 | J63: 高校岗前培训128学时
A64: 61 | B64: 钟诗臻 | C64: 长沙工业学院后勤保卫处（发展规划处） | D64: 在岗培训 | E64: 30 | F64: 线上培训 | G64: 60 | H64: 学时认定 | I64: 合格 | J64: 高校岗前培训128学时
A65: 62 | B65: 王琪 | C65: 长沙工业学院后勤保卫处（发展规划处） | D65: 在岗培训 | E65: 30 | F65: 线上培训 | G65: 60 | H65: 学时认定 | I65: 合格 | J65: 高校岗前培训128学时
A66: 63 | B66: 张安石 | C66: 长沙工业学院后勤保卫处（发展规划处） | D66: 在岗培训 | E66: 30 | F66: 线上培训 | G66: 60 | H66: 学时认定 | I66: 合格 | J66: 高校岗前培训128学时
A67: 64 | B67: 刘思婕 | C67: 继续教育学院 | D67: 在岗培训 | E67: 30 | F67: 线上培训 | G67: 60 | H67: 学时认定 | I67: 合格 | J67: 湖南省高校教师岗前培训
A68: 65 | B68: 付文聪 | C68: 继续教育学院 | D68: 在岗培训 | E68: 32 | F68: 线上培训 | G68: 60 | H68: 线上培训 | I68: 合格
A69: 66 | B69: 陆明中 | C69: 图书馆 | D69: 在岗培训 | E69: 30 | F69: 线上培训 | G69: 128 | H69: 学时认定128 | I69: 合格 | J69: 专业课学时是参加2024年湖南省高校教师线上岗前培训班的学习
A70: 67 | B70: 孔雪元 | C70: 现代教育信息中心 | D70: 在岗培训 | E70: 30 | F70: 线上培训 | G70: 60 | H70: 线上培训10 学时认定50 | I70: 合格 | J70: 2024年暑假教师研修10 湖南省高校教师智能计算与感知前沿技术发展及应用高级研修班40
A71: 68 | B71: 钟倩 | C71: 现代教育信息中心 | D71: 在岗培训 | E71: 30 | F71: 线上培训 | G71: 60 | H71: 学时认定 | I71: 合格 | J71: 2024湖南省高校教师岗前培训60
A72: 69 | B72: 魏勇 | C72: 现代教育信息中心 | D72: 在岗培训 | E72: 30 | F72: 线上培训 | G72: 60 | H72: 学时认定 | I72: 合格 | J72: 2024湖南省高校教师岗前培训60
A73: 70 | B73: 文佩 | C73: 现代教育信息中心 | D73: 在岗培训 | E73: 30 | F73: 线上培训 | G73: 60 | H73: 学时认定 | I73: 合格 | J73: 2024湖南省高校教师岗前培训60
A74: 71 | B74: 张乐 | C74: 长沙工业学院学生工作处（武装部） | D74: 在岗培训 | E74: 30 | F74: 集中培训 | G74: 60 | H74: 学时认定40 线上培训4 集中培训16 | I74: 合格 | J74: 课题40+平台培训4+集中培训16
A75: 72 | B75: 刘宏程 | C75: 长沙工业学院学生工作处（武装部） | D75: 在岗培训 | E75: 30 | F75: 线上培训 | G75: 60 | H75: 集中培训30 学时认定30 | I75: 合格 | J75: 集中培训30+课题30
A76: 73 | B76: 陈卓 | C76: 长沙工业学院学生工作处（武装部） | D76: 在岗培训 | E76: 30 | F76: 线上培训 | G76: 60 | H76: 集中培训16 线上培训44 | I76: 合格 | J76: 集中培训16+ 平台培训44
A77: 74 | B77: 李琛 | C77: 长沙工业学院学生工作处（武装部） | D77: 在岗培训 | E77: 30 | F77: 线上培训 | G77: 60 | H77: 线上培训 | I77: 合格 | J77: 教资岗前培训60
A78: 75 | B78: 解帆 | C78: 长沙工业学院学生工作处（武装部） | D78: 在岗培训 | E78: 30 | F78: 线上培训 | G78: 60 | H78: 线上培训 | I78: 合格 | J78: 教资岗前培训60
A79: 76 | B79: 陈立颖 | C79: 长沙工业学院学生工作处（武装部） | D79: 在岗培训 | E79: 30 | F79: 线上培训 | G79: 60 | H79: 线上培训 | I79: 合格 | J79: 教资岗前培训60
A80: 77 | B80: 许宇飞 | C80: 长沙工业学院教务处 | D80: 在岗培训 | E80: 30 | F80: 线上培训 | G80: 60 | H80: 线上培训 | I80: 合格
A81: 78 | B81: 余登科 | C81: 长沙工业学院教务处 | D81: 在岗培训 | E81: 30 | F81: 线上培训 | G81: 60 | H81: 学时认定 | I81: 合格 | J81: 岗前培训学习学时认定
A82: 79 | B82: 廖永忠 | C82: 长沙工业学院教务处 | D82: 在岗培训 | E82: 30 | F82: 线上培训 | G82: 60 | H82: 线上培训、学时认定 | I82: 合格 | J82: 集中培训、自科基金项目
A83: 80 | B83: 黄小凤 | C83: 长沙工业学院教务处 | D83: 在岗培训 | E83: 30 | F83: 线上培训 | G83: 60 | H83: 线上培训 | I83: 合格
A84: 81 | B84: 张平华 | C84: 长沙工业学院教务处 | D84: 在岗培训 | E84: 30 | F84: 线上培训 | G84: 60 | H84: 线上培训 | I84: 合格
A85: 82 | B85: 谭承旦 | C85: 长沙工业学院教务处 | D85: 在岗培训 | E85: 30 | F85: 线上培训 | G85: 60 | H85: 学时认定 | I85: 合格 | J85: 岗前培训学习学时认定
A86: 83 | B86: 陶肖 | C86: 长沙工业学院教务处 | D86: 在岗培训 | E86: 30 | F86: 线上培训 | G86: 60 | H86: 线上培训 | I86: 合格
A87: 84 | B87: 何婷 | C87: 长沙工业学院教务处 | D87: 在岗培训 | E87: 30 | F87: 线上培训 | G87: 60 | H87: 学时认定 | I87: 合格 | J87: 岗前培训学习学时认定
A88: 85 | B88: 柴桦 | C88: 长沙工业学院教务处 | D88: 在岗培训 | E88: 30 | F88: 线上培训 | G88: 60 | H88: 线上培训 | I88: 合格
A89: 86 | B89: 王品入 | C89: 长沙工业学院教务处 | D89: 在岗培训 | E89: 30 | F89: 线上培训 | G89: 60 | H89: 学时认定 | I89: 合格 | J89: 岗前培训学习学时认定
A90: 87 | B90: 陈鹏慧 | C90: 电子信息工程学院 | D90: 在岗培训 | E90: 30 | F90: 线上培训 | G90: 60 | H90: 线上培训 | I90: 合格
A91: 88 | B91: 邓知辉 | C91: 电子信息工程学院 | D91: 在岗培训 | E91: 30 | F91: 线上培训 | G91: 60 | H91: 线上培训 | I91: 合格
A92: 89 | B92: 石英春 | C92: 电子信息工程学院 | D92: 在岗培训 | E92: 30 | F92: 线上培训 | G92: 60 | H92: 学时认定60 | I92: 合格 | J92: 湖南省社会科学成果评审委员会2023年立项课题-结题60；发明专利授权60；
A93: 90 | B93: 邓桂萍 | C93: 电子信息工程学院 | D93: 在岗培训 | E93: 30 | F93: 线上培训 | G93: 60 | H93: 线上培训 | I93: 合格
A94: 91 | B94: 康钦清 | C94: 电子信息工程学院 | D94: 在岗培训 | E94: 30 | F94: 线上培训 | G94: 60 | H94: 线上培训 | I94: 合格
A95: 92 | B95: 谭庆龙 | C95: 电子信息工程学院 | D95: 在岗培训 | E95: 30 | F95: 线上培训 | G95: 60 | H95: 线上培训 | I95: 合格
A96: 93 | B96: 李启煌 | C96: 电子信息工程学院 | D96: 在岗培训 | E96: 30 | F96: 线上培训 | G96: 60 | H96: 学时认定60 | I96: 合格 | J96: 高校教师岗前培训128课时
A97: 94 | B97: 霍晓钦 | C97: 电子信息工程学院 | D97: 在岗培训 | E97: 30 | F97: 线上培训 | G97: 60 | H97: 学时认定60 | I97: 合格 | J97: 高校教师岗前培训128课时
A98: 95 | B98: 曹江亭 | C98: 电子信息工程学院 | D98: 在岗培训 | E98: 30 | F98: 线上培训 | G98: 60 | H98: 线上培训 | I98: 合格
A99: 96 | B99: 冯光 | C99: 电子信息工程学院 | D99: 在岗培训 | E99: 30 | F99: 线上培训 | G99: 60 | H99: 线上培训 | I99: 合格
A100: 97 | B100: 符琦 | C100: 电子信息工程学院 | D100: 在岗培训 | E100: 30 | F100: 线上培训 | G100: 60 | H100: 线上培训 | I100: 合格 | J100: 第一作者论文30+第三作者论文10+寒假教师研修6+暑期教师研修10+平台40（公需30+专业10）
...

Sheet 长工
A1: 人社培训学时材料提交确认表（长工）
A3: 序号 | B3: 工作部门 | C3: 人数 | D3: 培训管理员 | E3: 备注
A4: 1 | B4: 长沙工业学院党政办公室 | C4: =COUNTIF(【表单1】【附件2】长工!C:C,B4) -> 4 | D4: 石晓兰
A5: 2 | B5: 组织部 | C5: =COUNTIF(【表单1】【附件2】长工!C:C,B5) -> 4 | D5: 舒亮
A6: 3 | B6: 宣传统战部 | C6: =COUNTIF(【表单1】【附件2】长工!C:C,B6) -> 7 | D6: 彭蝶芬
A7: 4 | B7: 纪检监察室 | C7: =COUNTIF(【表单1】【附件2】长工!C:C,B7) -> 3 | D7: 谭鹏程
A8: 5 | B8: 学生工作处 | C8: =COUNTIF(【表单1】【附件2】长工!C:C,B8) -> 3 | D8: 周薇
A9: 6 | B9: 院工会 | C9: =COUNTIF(【表单1】【附件2】长工!C:C,B9) -> 2 | D9: 李天任
A10: 7 | B10: 院团委 | C10: =COUNTIF(【表单1】【附件2】长工!C:C,B10) -> 3 | D10: 李芳
A11: 8 | B11: 人事处 | C11: =COUNTIF(【表单1】【附件2】长工!C:C,B11) -> 6 | D11: 王雨思
A12: 9 | B12: 财务处 | C12: =COUNTIF(【表单1】【附件2】长工!C:C,B12) -> 2 | D12: 任潇
A13: 10 | B13: 资产管理处 | C13: =COUNTIF(【表单1】【附件2】长工!C:C,B13) -> 2 | D13: 张佳婧
A14: 11 | B14: 审计处 | C14: =COUNTIF(【表单1】【附件2】长工!C:C,B14) -> 3 | D14: 廖洁
A15: 12 | B15: 教务处 | C15: =COUNTIF(【表单1】【附件2】长工!C:C,B15) -> 3 | D15: 潘婧雅
... A34: 31 | B34: 马克思主义学院 | C34: =COUNTIF(【表单1】【附件2】长工!C:C,B34) -> 6 | D34: 谢莉娜
