Workbook

Sheet 【表单1】【附件2】长工
B1: 2024年人社局培训学时认定登记表（长沙工业学院）
B2: 单位:长沙工业学院
A3: 序号 | B3: 姓名 | C3: 部门 | D3: 培训类型 | E3: 公共课学时数 | F3: 培训方式 | G3: 专业课学时数 | H3: 培训方式 | I3: 培训结果 | J3: 备注
A4: 1 | B4: 刘孟祥 | C4: 长沙工业学院党政办公室 | D4: 在岗培训 | E4: 30 | F4: 线上培训 | G4: 60 | H4: 线上培训 | I4: 合格
A5: 2 | B5: 石晓兰 | C5: 长沙工业学院党政办公室 | D5: 在岗培训 | E5: 30 | F5: 线上培训 | G5: 60 | H5: 学时认定 | I5: 合格 | J5: 2024年湖 南省高校教师线上岗前培训班
A6: 3 | B6: 潘帅 | C6: 长沙工业学院党政办公室 | D6: 在岗培训 | E6: 30 | F6: 线上培训 | G6: 60 | H6: 学时认定 | I6: 合格 | J6: 2024年湖 南省高校教师线上岗前培训班
A7: 4 | B7: 童雄风 | C7: 长沙工业学院党政办公室 | D7: 在岗培训 | E7: 30 | F7: 线上培训 | G7: 60 | H7: 学时认定 | I7: 合格 | J7: 2024年湖 南省高校教师线上岗前培训班
A8: 5 | B8: 舒亮 | C8: 组织部 | D8: 在岗培训 | E8: 56 | F8: 线下培训 | G8: 60 | H8: 线上培训 | I8: 合格 | J8: 1.线下培训举办单位：国家教育行政学院 2.线下培训56课时见结业证书
A9: 6 | B9: 刘婷 | C9: 组织部 | D9: 在岗培训 | E9: 56 | F9: 线下培训 | G9: 60 | H9: 线上培训 | I9: 合格 | J9: 1.线下培训举办单位：国家教育行政学院 2.线下培训56课时见结业证书
A10: 7 | B10: 邹思铭 | C10: 组织部 | D10: 在岗培训 | E10: 56 | F10: 线下培训 | G10: 60 | H10: 线上培训 | I10: 合格 | J10: 1.线下培训举办单位：国家教育行政学院 2.线下培训56课时见结业证书
A11: 8 | B11: 崔姝妍 | C11: 组织部 | D11: 岗前培训+在岗培训 | E11: 30 | F11: 线上培训 | G11: 128 | H11: 线上培训 | I11: 合格 | J11: 线上培训128课时见学时证明
A12: 9 | B12: 何志宏 | C12: 宣传统战部 | D12: 在岗培训 | E12: 30 | F12: 线上培训 | G12: 60 | H12: 线上培训 | I12: 合格
A13: 10 | B13: 黄畅 | C13: 宣传统战部 | D13: 在岗培训 | E13: 30 | F13: 线上培训 | G13: 60 | H13: 线上培训 | I13: 合格
A14: 11 | B14: 邢冬妮 | C14: 宣传统战部 | D14: 在岗培训 | E14: 30 | F14: 线上培训 | G14: 60 | H14: 线上培训 | I14: 合格
A15: 12 | B15: 彭蝶芬 | C15: 宣传统战部 | D15: 在岗培训 | E15: 30 | F15: 线上培训 | G15: 60 | H15: 线上培训 | I15: 合格
A16: 13 | B16: 张梦闪 | C16: 宣传统战部 | D16: 在岗培训 | E16: 30 | F16: 线上培训 | G16: 60 | H16: 线上培训 | I16: 合格
A17: 14 | B17: 方璠 | C17: 宣传统战部 | D17: 在岗培训 | E17: 30 | F17: 线上培训 | G17: 60 | H17: 线上培训 | I17: 合格
A18: 15 | B18: 陈傲 | C18: 宣传统战部 | D18: 在岗培训 | E18: 30 | F18: 线上培训 | G18: 60 | H18: 线上培训 | I18: 合格
A19: 16 | B19: 谭鹏程 | C19: 纪检监察室 | D19: 在岗培训 | E19: 30 | F19: 线上培训 | G19: 60 | H19: 线上培训 | I19: 合格
A20: 17 | B20: 凌芬 | C20: 纪检监察室 | D20: 在岗培训 | E20: 30 | F20: 线上培训 | G20: 60 | H20: 线上培训 | I20: 合格
A21: 18 | B21: 李梅芳 | C21: 纪检监察室 | D21: 在岗培训 | E21: 30 | F21: 线上培训 | G21: 60 | H21: 线上培训 | I21: 合格
A22: 19 | B22: 黄慧敏 | C22: 学生工作处 | D22: 在岗培训 | E22: 30 | F22: 线上培训 | G22: 60 | H22: 线上培训44 学时认定16 | I22: 合格 | J22: 学习平台培训44+2024年寒假教师研修培训6+2024年暑假教师研修培训10
A23: 20 | B23: 罗炜 | C23: 学生工作处 | D23: 在岗培训 | E23: 30 | F23: 线上培训 | G23: 60 | H23: 线上培训 | I23: 合格
A24: 21 | B24: 周薇 | C24: 学生工作处 | D24: 在岗培训 | E24: 30 | F24: 线上培训 | G24: 60 | H24: 线上培训 | I24: 合格 | J24: 2024年湖南省高校教师线上岗前培训班60
A25: 22 | B25: 叶胜男 | C25: 院工会 | D25: 在岗培训 | E25: 30 | F25: 线上培训 | G25: 60 | H25: 学时认定 | I25: 合格 | J25: 高校教师岗前培训60专业课时
A26: 23 | B26: 李天任 | C26: 院工会 | D26: 在岗培训 | E26: 30 | F26: 线上培训 | G26: 60 | H26: 学时认定 | I26: 合格 | J26: 高校教师岗前培训60专业课时
A27: 24 | B27: 李梦瑶 | C27: 院团委 | D27: 在岗培训 | E27: 30 | F27: 线上培训 | G27: 60 | H27: 线上培训 | I27: 合格
A28: 25 | B28: 肖卓 | C28: 院团委 | D28: 在岗培训 | E28: 38 | F28: 线上培训 | G28: 62 | H28: 线上培训 | I28: 合格
A29: 26 | B29: 杨娟 | C29: 院团委 | D29: 在岗培训 | E29: 30 | F29: 线上培训 | G29: 60 | H29: 学时认定 | I29: 合格 | J29: 高校教师岗前培训
A30: 27 | B30: 唐超 | C30: 人事处 | D30: 在岗培训 | E30: 30 | F30: 线上培训 | G30: 60 | H30: 线上培训 | I30: 合格
A31: 28 | B31: 李颖娟 | C31: 人事处 | D31: 在岗培训 | E31: 30 | F31: 线上培训 | G31: 60 | H31: 线上培训 | I31: 合格
A32: 29 | B32: 胡建宇 | C32: 人事处 | D32: 在岗培训 | E32: 30 | F32: 线上培训 | G32: 60 | H32: 学时认定 | I32: 合格 | J32: 湖南省高校教师岗前培训
A33: 30 | B33: 高乐 | C33: 人事处 | D33: 在岗培训 | E33: 30 | F33: 线上培训 | G33: 60 | H33: 学时认定 | I33: 合格 | J33: 湖南省高校教师岗前培训
A34: 31 | B34: 王雨思 | C34: 人事处 | D34: 在岗培训 | E34: 30 | F34: 线上培训 | G34: 60 | H34: 学时认定 | I34: 合格 | J34: 湖南省高校教师岗前培训
A35: 32 | B35: 伍兴 | C35: 人事处 | D35: 在岗培训 | E35: 30 | F35: 线上培训 | G35: 60 | H35: 学时认定 | I35: 合格 | J35: 湖南省高校教师岗前培训
A36: 33 | B36: 吴苗 | C36: 财务处 | D36: 在岗培训 | E36: 30 | F36: 线上培训 | G36: 60 | H36: 学时认定 | I36: 合格 | J36: 湖南省高校教师线上岗前培训认定60学时
A37: 34 | B37: 任潇 | C37: 财务处 | D37: 在岗培训 | E37: 30 | F37: 线上培训 | G37: 60 | H37: 学时认定 | I37: 合格 | J37: 湖南省高校教师线上岗前培训认定60学时
A38: 35 | B38: 黄博文 | C38: 资产管理处 | D38: 在岗培训 | E38: 30 | F38: 线上培训 | G38: 60 | H38: 线上培训 | I38: 合格
A39: 36 | B39: 唐黄正 | C39: 资产管理处 | D39: 在岗培训 | E39: 30 | F39: 线上培训 | G39: 60 | H39: 线上培训 | I39: 合格
A40: 37 | B40: 卢佳佳 | C40: 审计处 | D40: 在岗培训 | E40: 30 | F40: 线上培训 | G40: 60 | H40: 线上培训 | I40: 合格
...

Sheet 长工
A1: 人社培训学时材料提交确认表（长工）
A3: 序号 | B3: 工作部门 | C3: 人数 | D3: 培训管理员 | E3: 备注
A4: 1 | B4: 长沙工业学院党政办公室 | C4: =COUNTIF(【表单1】【附件2】长工!C:C,B4) -> 4 | D4: 石晓兰
A5: 2 | B5: 组织部 | C5: =COUNTIF(【表单1】【附件2】长工!C:C,B5) -> 4 | D5: 舒亮
A6: 3 | B6: 宣传统战部 | C6: =COUNTIF(【表单1】【附件2】长工!C:C,B6) -> 7 | D6: 彭蝶芬
A7: 4 | B7: 纪检监察室 | C7: =COUNTIF(【表单1】【附件2】长工!C:C,B7) -> 3 | D7: 谭鹏程
A8: 5 | B8: 学生工作处 | C8: =COUNTIF(【表单1】【附件2】长工!C:C,B8) -> 3 | D8: 周薇
A9: 6 | B9: 院工会 | C9: =COUNTIF(【表单1】【附件2】长工!C:C,B9) -> 2 | D9: 李天任
A10: 7 | B10: 院团委 | C10: =COUNTIF(【表单1】【附件2】长工!C:C,B10) -> 3 | D10: 李芳
A11: 8 | B11: 人事处 | C11: =COUNTIF(【表单1】【附件2】长工!C:C,B11) -> 6 | D11: 王雨思
A12: 9 | B12: 财务处 | C12: =COUNTIF(【表单1】【附件2】长工!C:C,B12) -> 2 | D12: 任潇
A13: 10 | B13: 资产管理处 | C13: =COUNTIF(【表单1】【附件2】长工!C:C,B13) -> 2 | D13: 张佳婧
A14: 11 | B14: 审计处 | C14: =COUNTIF(【表单1】【附件2】长工!C:C,B14) -> 3 | D14: 廖洁
A15: 12 | B15: 教务处 | C15: =COUNTIF(【表单1】【附件2】长工!C:C,B15) -> 3 | D15: 潘婧雅
... A34: 31 | B34: 马克思主义学院 | C34: =COUNTIF(【表单1】【附件2】长工!C:C,B34) -> 6 | D34: 谢莉娜
